BEGIN:VCALENDAR
VERSION:2.0
PRODID:-//SVP Sektion Köniz //NONSGML Events //EN
CALSCALE:GREGORIAN
X-WR-CALNAME:SVP Sektion Köniz
BEGIN:VEVENT
CREATED:20250827T004734Z
UID:2537
DTEND:20250905T180000
DTSTART:20250905T170000
DTSTAMP:20260420T055431Z
LOCATION:Scherzhaus Köniz
DESCRIPTION:
SUMMARY:Feierabendbier im Scherzhaus Köniz
ORGANIZER:FDP & SVP
URL;VALUE=URI:https://www.svp-koeniz.ch/termine/feierabendbier-im-scherzhaus-koeniz/
TRANSP:OPAQUE
END:VEVENT
END:VCALENDAR
